BEGIN:VCALENDAR
VERSION:2.0
PRODID:ConsultVox
NAME:Réunion spéciale quartier centre le jeudi 5 mars
X-WR-CALNAME:Réunion spéciale quartier centre le jeudi 5 mars
BEGIN:VTIMEZONE
TZID:UTC
BEGIN:STANDARD
DTSTART:20250608T190000Z
TZOFFSETFROM:+0000
TZOFFSETTO:+0000
END:STANDARD
END:VTIMEZONE
BEGIN:VEVENT
UID:gJ4AU4y7JYg
DTSTAMP:20260421T103016Z
SUMMARY:Réunion spéciale quartier centre le jeudi 5 mars
DESCRIPTION:Présentation de l’équipe et du projet le Jeudi 5 mars à 20
 h30 à l'Espace Bouteiller\n\nLa présentation sera suivie du verre de l
 ’amitié
LOCATION:Espace Bouteiller\, Avenue du Bouteiller\, Chantilly\, France
DTSTART:20260305T190000Z
DTEND:20260305T213000Z
GEO:49.1939669;2.4722891
END:VEVENT
END:VCALENDAR