BEGIN:VCALENDAR
VERSION:2.0
PRODID:ConsultVox
NAME:26/02/2026 : Présentation de l'équipe Oser Chantilly\, Spéciale qua
 rtier nord.
X-WR-CALNAME:26/02/2026 : Présentation de l'équipe Oser Chantilly\, Spéc
 iale quartier nord.
BEGIN:VTIMEZONE
TZID:UTC
BEGIN:STANDARD
DTSTART:20250601T190000Z
TZOFFSETFROM:+0000
TZOFFSETTO:+0000
END:STANDARD
END:VTIMEZONE
BEGIN:VEVENT
UID:pY5Mcpomxjl
DTSTAMP:20260423T104243Z
SUMMARY:26/02/2026 : Présentation de l'équipe Oser Chantilly\, Spéciale 
 quartier nord.
DESCRIPTION:Rendez-vous le jeudi 26 février à 20h30 à la salle Claude Ro
 llet.\n\nLa présentation sera suivie du verre de l'amitié.
LOCATION:13 Boulevard Michel Lefébure\, 60500 Chantilly\, France
DTSTART:20260226T190000Z
DTEND:20260226T213000Z
GEO:49.2023028;2.4593894
END:VEVENT
END:VCALENDAR